BEGIN:VCALENDAR
VERSION:2.0
PRODID:-//www.christchildomaha.com//NONSGML kigkonsult.se iCalcreator 2.30.
 10//
CALSCALE:GREGORIAN
METHOD:PUBLISH
UID:a31be49a-0c12-4291-95a8-b4bf13087e3f
X-WR-CALDESC:
X-WR-RELCALID:16ceee3ab2a2b88cb899393c22162157
X-WR-TIMEZONE:America/Chicago
BEGIN:VTIMEZONE
TZID:America/Chicago
BEGIN:STANDARD
TZNAME:CST
DTSTART:20231105T020000
TZOFFSETFROM:-0500
TZOFFSETTO:-0600
RDATE:20241103T020000
END:STANDARD
BEGIN:DAYLIGHT
TZNAME:CDT
DTSTART:20240310T020000
TZOFFSETFROM:-0600
TZOFFSETTO:-0500
RDATE:20250309T020000
END:DAYLIGHT
END:VTIMEZONE
BEGIN:VEVENT
UID:27b092a0-785d-4ec6-9a0a-779a9b5cff4e
DTSTAMP:20260423T040552Z
DESCRIPTION:
DTSTART;TZID=America/Chicago:20240410T093000
DTEND;TZID=America/Chicago:20240410T113000
LOCATION:Eileen Ryan Christ Child Center
SUMMARY:Ses Enfants - Unpacking
END:VEVENT
END:VCALENDAR
