BEGIN:VCALENDAR
VERSION:2.0
PRODID:-//www.christchildomaha.com//NONSGML kigkonsult.se iCalcreator 2.30.
 10//
CALSCALE:GREGORIAN
METHOD:PUBLISH
UID:bf082f5f-64b4-4a37-a53c-32adf684be98
X-WR-CALDESC:
X-WR-RELCALID:f055d6771699387faaa116f61eb157d5
X-WR-TIMEZONE:America/Chicago
BEGIN:VTIMEZONE
TZID:America/Chicago
BEGIN:STANDARD
TZNAME:CST
DTSTART:20231105T020000
TZOFFSETFROM:-0500
TZOFFSETTO:-0600
RDATE:20241103T020000
END:STANDARD
BEGIN:DAYLIGHT
TZNAME:CDT
DTSTART:20240310T020000
TZOFFSETFROM:-0600
TZOFFSETTO:-0500
RDATE:20250309T020000
END:DAYLIGHT
END:VTIMEZONE
BEGIN:VEVENT
UID:9d75569c-e597-4fee-ba8e-ad4e7ec48720
DTSTAMP:20260423T040123Z
DESCRIPTION:
DTSTART;TZID=America/Chicago:20240418T113000
DTEND;TZID=America/Chicago:20240418T130000
LOCATION:Eileen Ryan Christ Child Center
SUMMARY:Board of Directors Meeting
END:VEVENT
END:VCALENDAR
