BEGIN:VCALENDAR
VERSION:2.0
PRODID:-//www.christchildomaha.com//NONSGML kigkonsult.se iCalcreator 2.30.
 10//
CALSCALE:GREGORIAN
METHOD:PUBLISH
UID:69e09742-843c-4eb5-981e-ed7341dac575
X-WR-CALDESC:
X-WR-RELCALID:119437e316cf30192c7ec7572c8604a4
X-WR-TIMEZONE:America/Chicago
BEGIN:VTIMEZONE
TZID:America/Chicago
BEGIN:STANDARD
TZNAME:CST
DTSTART:20231105T020000
TZOFFSETFROM:-0500
TZOFFSETTO:-0600
RDATE:20241103T020000
END:STANDARD
BEGIN:DAYLIGHT
TZNAME:CDT
DTSTART:20240310T020000
TZOFFSETFROM:-0600
TZOFFSETTO:-0500
RDATE:20250309T020000
END:DAYLIGHT
END:VTIMEZONE
BEGIN:VEVENT
UID:2469a83a-863a-44e7-93df-38278674ba16
DTSTAMP:20260423T035849Z
DESCRIPTION:
DTSTART;TZID=America/Chicago:20240422T170000
DTEND;TZID=America/Chicago:20240422T183000
LOCATION:Mater Filius
SUMMARY:Car Seat Event
END:VEVENT
END:VCALENDAR
