BEGIN:VCALENDAR
VERSION:2.0
PRODID:-//www.christchildomaha.com//NONSGML kigkonsult.se iCalcreator 2.30.
 10//
CALSCALE:GREGORIAN
METHOD:PUBLISH
UID:201ba0da-c037-42cf-ba0c-f52de96d653b
X-WR-CALDESC:
X-WR-RELCALID:9294c8471b9b7af7fffdfe995a0c8f48
X-WR-TIMEZONE:America/Chicago
BEGIN:VTIMEZONE
TZID:America/Chicago
BEGIN:STANDARD
TZNAME:CST
DTSTART:20231105T020000
TZOFFSETFROM:-0500
TZOFFSETTO:-0600
RDATE:20241103T020000
END:STANDARD
BEGIN:DAYLIGHT
TZNAME:CDT
DTSTART:20240310T020000
TZOFFSETFROM:-0600
TZOFFSETTO:-0500
RDATE:20250309T020000
END:DAYLIGHT
END:VTIMEZONE
BEGIN:VEVENT
UID:94e6d59d-7821-492f-92c2-ddc0fc3420af
DTSTAMP:20260423T033700Z
DESCRIPTION:
DTSTART;TZID=America/Chicago:20240425T180000
DTEND;TZID=America/Chicago:20240425T200000
LOCATION:908 N 102nd St\, Omaha\, NE 68114 US
SUMMARY:Top Golf Fundraiser
END:VEVENT
END:VCALENDAR
