BEGIN:VCALENDAR
VERSION:2.0
PRODID:-//www.christchildomaha.com//NONSGML kigkonsult.se iCalcreator 2.30.
 10//
CALSCALE:GREGORIAN
METHOD:PUBLISH
UID:38b174a1-35de-460c-9068-c205eeaf5574
X-WR-CALDESC:
X-WR-RELCALID:ab18be29c0fdc915f4fc850bda83a221
X-WR-TIMEZONE:America/Chicago
BEGIN:VTIMEZONE
TZID:America/Chicago
BEGIN:STANDARD
TZNAME:CST
DTSTART:20231105T020000
TZOFFSETFROM:-0500
TZOFFSETTO:-0600
RDATE:20241103T020000
END:STANDARD
BEGIN:DAYLIGHT
TZNAME:CDT
DTSTART:20240310T020000
TZOFFSETFROM:-0600
TZOFFSETTO:-0500
RDATE:20250309T020000
END:DAYLIGHT
END:VTIMEZONE
BEGIN:VEVENT
UID:dfa38344-82f3-4fb7-8252-b7b783e48d95
DTSTAMP:20260423T040441Z
DESCRIPTION:
DTSTART;TZID=America/Chicago:20240428T113000
DTEND;TZID=America/Chicago:20240428T130000
LOCATION:Eileen Ryan Christ Child Center
SUMMARY:SMM Confirmation Group - Unpacking
END:VEVENT
END:VCALENDAR
