BEGIN:VCALENDAR
VERSION:2.0
PRODID:-//www.christchildomaha.com//NONSGML kigkonsult.se iCalcreator 2.30.
 10//
CALSCALE:GREGORIAN
METHOD:PUBLISH
UID:4e3cdfa3-58fd-42c8-8489-c1d901169b00
X-WR-CALDESC:
X-WR-RELCALID:c78a73a59aaaf15c3802f5e4891a91ec
X-WR-TIMEZONE:America/Chicago
BEGIN:VTIMEZONE
TZID:America/Chicago
BEGIN:STANDARD
TZNAME:CST
DTSTART:20231105T020000
TZOFFSETFROM:-0500
TZOFFSETTO:-0600
RDATE:20241103T020000
END:STANDARD
BEGIN:DAYLIGHT
TZNAME:CDT
DTSTART:20240310T020000
TZOFFSETFROM:-0600
TZOFFSETTO:-0500
RDATE:20250309T020000
END:DAYLIGHT
END:VTIMEZONE
BEGIN:VEVENT
UID:228faada-3d26-4982-b52e-4c5fdde7555a
DTSTAMP:20260423T022334Z
DESCRIPTION:
DTSTART;TZID=America/Chicago:20240502T110000
DTEND;TZID=America/Chicago:20240502T130000
LOCATION:Eileen Ryan Christ Child Center
SUMMARY:Les Anges Meeting and Unpacking
END:VEVENT
END:VCALENDAR
