BEGIN:VCALENDAR
VERSION:2.0
PRODID:-//www.christchildomaha.com//NONSGML kigkonsult.se iCalcreator 2.30.
 10//
CALSCALE:GREGORIAN
METHOD:PUBLISH
UID:409601fa-5d4a-4343-a984-997a568b1342
X-WR-CALDESC:
X-WR-RELCALID:d3aaac77134fb0297922a961500bc960
X-WR-TIMEZONE:America/Chicago
BEGIN:VTIMEZONE
TZID:America/Chicago
BEGIN:STANDARD
TZNAME:CST
DTSTART:20231105T020000
TZOFFSETFROM:-0500
TZOFFSETTO:-0600
RDATE:20241103T020000
RDATE:20251102T020000
END:STANDARD
BEGIN:DAYLIGHT
TZNAME:CDT
DTSTART:20240310T020000
TZOFFSETFROM:-0600
TZOFFSETTO:-0500
RDATE:20250309T020000
END:DAYLIGHT
END:VTIMEZONE
BEGIN:VEVENT
UID:8b1a9e84-d29b-4349-a3c5-d0a323ee7aab
DTSTAMP:20260423T013801Z
DESCRIPTION:
DTSTART;TZID=America/Chicago:20240504T130000
DTEND;TZID=America/Chicago:20240504T150000
LOCATION:Eileen Ryan Christ Child Center
SUMMARY:Ses Amies Layette Assembly
END:VEVENT
END:VCALENDAR
