BEGIN:VCALENDAR
VERSION:2.0
PRODID:-//www.christchildomaha.com//NONSGML kigkonsult.se iCalcreator 2.30.
 10//
CALSCALE:GREGORIAN
METHOD:PUBLISH
UID:91a139da-5773-49f2-8603-18ea313f86f3
X-WR-CALDESC:
X-WR-RELCALID:88272241037a4a9778737b8153962d79
X-WR-TIMEZONE:America/Chicago
BEGIN:VTIMEZONE
TZID:America/Chicago
BEGIN:STANDARD
TZNAME:CST
DTSTART:20231105T020000
TZOFFSETFROM:-0500
TZOFFSETTO:-0600
RDATE:20241103T020000
RDATE:20251102T020000
END:STANDARD
BEGIN:DAYLIGHT
TZNAME:CDT
DTSTART:20240310T020000
TZOFFSETFROM:-0600
TZOFFSETTO:-0500
RDATE:20250309T020000
END:DAYLIGHT
END:VTIMEZONE
BEGIN:VEVENT
UID:ea9e31dd-7b09-47b7-99d4-9fe95dfcc7cf
DTSTAMP:20260424T105258Z
DESCRIPTION:
DTSTART;TZID=America/Chicago:20240508T160000
DTEND;TZID=America/Chicago:20240508T190000
LOCATION:Eileen Ryan Christ Child Center
SUMMARY:L'Esprit Layette Assembly with 'Sips & Social'
END:VEVENT
END:VCALENDAR
