BEGIN:VCALENDAR
VERSION:2.0
PRODID:-//www.christchildomaha.com//NONSGML kigkonsult.se iCalcreator 2.30.
 10//
CALSCALE:GREGORIAN
METHOD:PUBLISH
UID:bdfa7f97-8d4a-4ddf-879d-06c8826d1f76
X-WR-CALDESC:
X-WR-RELCALID:f326c582110301928137462b664897b6
X-WR-TIMEZONE:America/Chicago
BEGIN:VTIMEZONE
TZID:America/Chicago
BEGIN:STANDARD
TZNAME:CST
DTSTART:20231105T020000
TZOFFSETFROM:-0500
TZOFFSETTO:-0600
RDATE:20241103T020000
RDATE:20251102T020000
END:STANDARD
BEGIN:DAYLIGHT
TZNAME:CDT
DTSTART:20240310T020000
TZOFFSETFROM:-0600
TZOFFSETTO:-0500
RDATE:20250309T020000
END:DAYLIGHT
END:VTIMEZONE
BEGIN:VEVENT
UID:7f90b01b-1023-4d26-9bc5-86160162d108
DTSTAMP:20260423T013505Z
DESCRIPTION:
DTSTART;TZID=America/Chicago:20240513T113000
DTEND;TZID=America/Chicago:20240513T130000
LOCATION:Eileen Ryan Christ Child Center
SUMMARY:Executive Committee Mtg
END:VEVENT
END:VCALENDAR
