BEGIN:VCALENDAR
VERSION:2.0
PRODID:-//www.christchildomaha.com//NONSGML kigkonsult.se iCalcreator 2.30.
 10//
CALSCALE:GREGORIAN
METHOD:PUBLISH
UID:fbdba5f5-582d-4fa2-b6a4-5d77fa37bee2
X-WR-CALDESC:
X-WR-RELCALID:0b078f7d1ded255aba9fc33d4f3dd2fd
X-WR-TIMEZONE:America/Chicago
BEGIN:VTIMEZONE
TZID:America/Chicago
BEGIN:STANDARD
TZNAME:CST
DTSTART:20231105T020000
TZOFFSETFROM:-0500
TZOFFSETTO:-0600
RDATE:20241103T020000
RDATE:20251102T020000
END:STANDARD
BEGIN:DAYLIGHT
TZNAME:CDT
DTSTART:20240310T020000
TZOFFSETFROM:-0600
TZOFFSETTO:-0500
RDATE:20250309T020000
END:DAYLIGHT
END:VTIMEZONE
BEGIN:VEVENT
UID:3c37f666-f719-4a84-aeb9-abcb68693e53
DTSTAMP:20260422T211605Z
DESCRIPTION:
DTSTART;TZID=America/Chicago:20240710T163000
DTEND;TZID=America/Chicago:20240710T193000
LOCATION:200 S 31st Ave #4107\, Omaha\, NE 68131 US
SUMMARY:Blanket Sewing Event at The Empire Room
END:VEVENT
END:VCALENDAR
