BEGIN:VCALENDAR
VERSION:2.0
PRODID:-//www.christchildomaha.com//NONSGML kigkonsult.se iCalcreator 2.30.
 10//
CALSCALE:GREGORIAN
METHOD:PUBLISH
UID:59043bfd-9a71-4a71-b269-879111b87f60
X-WR-CALDESC:
X-WR-RELCALID:2e4458a51adf4524e723848954a5edcf
X-WR-TIMEZONE:America/Chicago
BEGIN:VTIMEZONE
TZID:America/Chicago
BEGIN:STANDARD
TZNAME:CST
DTSTART:20231105T020000
TZOFFSETFROM:-0500
TZOFFSETTO:-0600
RDATE:20241103T020000
RDATE:20251102T020000
END:STANDARD
BEGIN:DAYLIGHT
TZNAME:CDT
DTSTART:20240310T020000
TZOFFSETFROM:-0600
TZOFFSETTO:-0500
RDATE:20250309T020000
END:DAYLIGHT
END:VTIMEZONE
BEGIN:VEVENT
UID:c503cd5f-7fc2-4c0f-93ea-93d4352395d5
DTSTAMP:20260422T211656Z
DESCRIPTION:
DTSTART;TZID=America/Chicago:20240711T183000
DTEND;TZID=America/Chicago:20240711T210000
LOCATION:TBD
SUMMARY:Ses Amies Summer Social
END:VEVENT
END:VCALENDAR
