BEGIN:VCALENDAR
VERSION:2.0
PRODID:-//www.christchildomaha.com//NONSGML kigkonsult.se iCalcreator 2.30.
 10//
CALSCALE:GREGORIAN
METHOD:PUBLISH
UID:3275cc7b-aed8-441c-8ed1-d44954ee90b1
X-WR-CALDESC:
X-WR-RELCALID:a9055740450988e32b7913ba0d2c9161
X-WR-TIMEZONE:America/Chicago
BEGIN:VTIMEZONE
TZID:America/Chicago
BEGIN:STANDARD
TZNAME:CST
DTSTART:20231105T020000
TZOFFSETFROM:-0500
TZOFFSETTO:-0600
RDATE:20241103T020000
RDATE:20251102T020000
END:STANDARD
BEGIN:DAYLIGHT
TZNAME:CDT
DTSTART:20240310T020000
TZOFFSETFROM:-0600
TZOFFSETTO:-0500
RDATE:20250309T020000
END:DAYLIGHT
END:VTIMEZONE
BEGIN:VEVENT
UID:507e05d6-0881-44fa-b07c-2c53e02b2858
DTSTAMP:20260422T192528Z
DESCRIPTION:
DTSTART;TZID=America/Chicago:20240815T100000
DTEND;TZID=America/Chicago:20240815T120000
LOCATION:Eileen
SUMMARY:L'Esprit Auxiliary - Soiree Invitation Stuffing
END:VEVENT
END:VCALENDAR
