BEGIN:VCALENDAR
VERSION:2.0
PRODID:-//www.christchildomaha.com//NONSGML kigkonsult.se iCalcreator 2.30.
 10//
CALSCALE:GREGORIAN
METHOD:PUBLISH
UID:d85c21b5-6ba1-4099-963a-61c1e75d8ec0
X-WR-CALDESC:
X-WR-RELCALID:6aa5e073c9877bcfbd79c8baf4dd81b3
X-WR-TIMEZONE:America/Chicago
BEGIN:VTIMEZONE
TZID:America/Chicago
BEGIN:STANDARD
TZNAME:CST
DTSTART:20231105T020000
TZOFFSETFROM:-0500
TZOFFSETTO:-0600
RDATE:20241103T020000
RDATE:20251102T020000
END:STANDARD
BEGIN:DAYLIGHT
TZNAME:CDT
DTSTART:20240310T020000
TZOFFSETFROM:-0600
TZOFFSETTO:-0500
RDATE:20250309T020000
END:DAYLIGHT
END:VTIMEZONE
BEGIN:VEVENT
UID:65c03af3-8d50-46ec-bb39-2d3842d40518
DTSTAMP:20260422T203132Z
DESCRIPTION:
DTSTART;TZID=America/Chicago:20240826T093000
DTEND;TZID=America/Chicago:20240826T103000
LOCATION:Eileen Ryan Christ Child Center
SUMMARY:Soiree Underwriting Committee Meeting
END:VEVENT
END:VCALENDAR
