BEGIN:VCALENDAR
VERSION:2.0
PRODID:-//www.christchildomaha.com//NONSGML kigkonsult.se iCalcreator 2.30.
 10//
CALSCALE:GREGORIAN
METHOD:PUBLISH
UID:06abe2d9-d53b-45e4-bd18-45ab12b9efab
X-WR-CALDESC:
X-WR-RELCALID:32bfbdd7ce16017fac60b7319901003d
X-WR-TIMEZONE:America/Chicago
BEGIN:VTIMEZONE
TZID:America/Chicago
BEGIN:STANDARD
TZNAME:CST
DTSTART:20231105T020000
TZOFFSETFROM:-0500
TZOFFSETTO:-0600
RDATE:20241103T020000
RDATE:20251102T020000
END:STANDARD
BEGIN:DAYLIGHT
TZNAME:CDT
DTSTART:20240310T020000
TZOFFSETFROM:-0600
TZOFFSETTO:-0500
RDATE:20250309T020000
RDATE:20260308T020000
END:DAYLIGHT
END:VTIMEZONE
BEGIN:VEVENT
UID:6874e1f7-f158-4899-9f8c-36e214a6629d
DTSTAMP:20260422T180546Z
DESCRIPTION:
DTSTART;TZID=America/Chicago:20240910T093000
DTEND;TZID=America/Chicago:20240910T110000
LOCATION:Eileen Ryan Christ Child Center
SUMMARY:Ses Enfants Meeting
END:VEVENT
END:VCALENDAR
