BEGIN:VCALENDAR
VERSION:2.0
PRODID:-//www.christchildomaha.com//NONSGML kigkonsult.se iCalcreator 2.30.
 10//
CALSCALE:GREGORIAN
METHOD:PUBLISH
UID:45f7dfad-89f6-4428-bf69-a5372990dce0
X-WR-CALDESC:
X-WR-RELCALID:cd525f55f69f5dd6a24c2beeabba2abd
X-WR-TIMEZONE:America/Chicago
BEGIN:VTIMEZONE
TZID:America/Chicago
BEGIN:STANDARD
TZNAME:CST
DTSTART:20231105T020000
TZOFFSETFROM:-0500
TZOFFSETTO:-0600
RDATE:20241103T020000
RDATE:20251102T020000
END:STANDARD
BEGIN:DAYLIGHT
TZNAME:CDT
DTSTART:20240310T020000
TZOFFSETFROM:-0600
TZOFFSETTO:-0500
RDATE:20250309T020000
RDATE:20260308T020000
END:DAYLIGHT
END:VTIMEZONE
BEGIN:VEVENT
UID:d02b5464-bb32-490a-807d-a694c839dc50
DTSTAMP:20260422T174107Z
DESCRIPTION:
DTSTART;TZID=America/Chicago:20240918T080000
DTEND;TZID=America/Chicago:20240918T120000
LOCATION:3601 Burt Street\, Omaha\, NE 68131 US
SUMMARY:Layette Assembly at Duchesne
END:VEVENT
END:VCALENDAR
