BEGIN:VCALENDAR
VERSION:2.0
PRODID:-//www.christchildomaha.com//NONSGML kigkonsult.se iCalcreator 2.30.
 10//
CALSCALE:GREGORIAN
METHOD:PUBLISH
UID:c733b173-6e99-4364-8518-dbc5a45d3b59
X-WR-CALDESC:
X-WR-RELCALID:6162cd0958dc8126702a8652a4a4d878
X-WR-TIMEZONE:America/Chicago
BEGIN:VTIMEZONE
TZID:America/Chicago
BEGIN:STANDARD
TZNAME:CST
DTSTART:20231105T020000
TZOFFSETFROM:-0500
TZOFFSETTO:-0600
RDATE:20241103T020000
RDATE:20251102T020000
END:STANDARD
BEGIN:DAYLIGHT
TZNAME:CDT
DTSTART:20240310T020000
TZOFFSETFROM:-0600
TZOFFSETTO:-0500
RDATE:20250309T020000
RDATE:20260308T020000
END:DAYLIGHT
END:VTIMEZONE
BEGIN:VEVENT
UID:7999e6e5-b2db-4417-bea4-0aa066971165
DTSTAMP:20260422T155411Z
DESCRIPTION:
DTSTART;TZID=America/Chicago:20241017T113000
DTEND;TZID=America/Chicago:20241017T130000
LOCATION:Eileen Ryan Christ Child Center
SUMMARY:Board of Directors Meeting
END:VEVENT
END:VCALENDAR
