BEGIN:VCALENDAR
VERSION:2.0
PRODID:-//www.christchildomaha.com//NONSGML kigkonsult.se iCalcreator 2.30.
 10//
CALSCALE:GREGORIAN
METHOD:PUBLISH
UID:217b92b9-9a86-4aa1-98f5-fb792b04d72f
X-WR-CALDESC:
X-WR-RELCALID:fef1ccfd10343230e0f58e4a437a879c
X-WR-TIMEZONE:America/Chicago
BEGIN:VTIMEZONE
TZID:America/Chicago
BEGIN:STANDARD
TZNAME:CST
DTSTART:20241103T020000
TZOFFSETFROM:-0500
TZOFFSETTO:-0600
RDATE:20251102T020000
END:STANDARD
BEGIN:DAYLIGHT
TZNAME:CDT
DTSTART:20240310T020000
TZOFFSETFROM:-0600
TZOFFSETTO:-0500
RDATE:20250309T020000
RDATE:20260308T020000
END:DAYLIGHT
END:VTIMEZONE
BEGIN:VEVENT
UID:6e70cb75-606c-4511-aca0-762be76d7b5b
DTSTAMP:20260422T134352Z
DESCRIPTION:
DTSTART;TZID=America/Chicago:20241119T173000
DTEND;TZID=America/Chicago:20241119T193000
LOCATION:St. Patrick's Church - Elkhorn
SUMMARY:Memorial Mass & Annual Meeting
END:VEVENT
END:VCALENDAR
