BEGIN:VCALENDAR
VERSION:2.0
PRODID:-//www.christchildomaha.com//NONSGML kigkonsult.se iCalcreator 2.30.
 10//
CALSCALE:GREGORIAN
METHOD:PUBLISH
UID:e62c24b4-a5d5-4103-a797-90496e9124d1
X-WR-CALDESC:
X-WR-RELCALID:a08ecc7bb610a6726beb1cb7a716d801
X-WR-TIMEZONE:America/Chicago
BEGIN:VTIMEZONE
TZID:America/Chicago
BEGIN:STANDARD
TZNAME:CST
DTSTART:20241103T020000
TZOFFSETFROM:-0500
TZOFFSETTO:-0600
RDATE:20251102T020000
END:STANDARD
BEGIN:DAYLIGHT
TZNAME:CDT
DTSTART:20240310T020000
TZOFFSETFROM:-0600
TZOFFSETTO:-0500
RDATE:20250309T020000
RDATE:20260308T020000
END:DAYLIGHT
END:VTIMEZONE
BEGIN:VEVENT
UID:88ec60d2-c3bb-4fc5-aa05-494e81a4db52
DTSTAMP:20260422T115145Z
DESCRIPTION:
DTSTART;TZID=America/Chicago:20241208T130000
DTEND;TZID=America/Chicago:20241208T150000
LOCATION:Eileen Ryan Christ Child Center
SUMMARY:Ses Amies Holiday Meeting and Unpacking
END:VEVENT
END:VCALENDAR
