BEGIN:VCALENDAR
VERSION:2.0
PRODID:-//www.christchildomaha.com//NONSGML kigkonsult.se iCalcreator 2.30.
 10//
CALSCALE:GREGORIAN
METHOD:PUBLISH
UID:551f0949-7ccb-4cff-bcaa-666e85f46b94
X-WR-CALDESC:
X-WR-RELCALID:876e1011bf83e2b5604dff5fed9e6fa5
X-WR-TIMEZONE:America/Chicago
BEGIN:VTIMEZONE
TZID:America/Chicago
BEGIN:STANDARD
TZNAME:CST
DTSTART:20241103T020000
TZOFFSETFROM:-0500
TZOFFSETTO:-0600
RDATE:20251102T020000
END:STANDARD
BEGIN:DAYLIGHT
TZNAME:CDT
DTSTART:20240310T020000
TZOFFSETFROM:-0600
TZOFFSETTO:-0500
RDATE:20250309T020000
RDATE:20260308T020000
END:DAYLIGHT
END:VTIMEZONE
BEGIN:VEVENT
UID:b5eb7ad5-e37b-47a5-b473-a6b80b9cbc36
DTSTAMP:20260422T114608Z
DESCRIPTION:
DTSTART;TZID=America/Chicago:20241211T110000
DTEND;TZID=America/Chicago:20241211T130000
LOCATION:Happy Hollow Club
SUMMARY:Ses Enfants Holiday Luncheon
END:VEVENT
END:VCALENDAR
