BEGIN:VCALENDAR
VERSION:2.0
PRODID:-//www.christchildomaha.com//NONSGML kigkonsult.se iCalcreator 2.30.
 10//
CALSCALE:GREGORIAN
METHOD:PUBLISH
UID:4a3d8275-1d55-4499-8f65-7c6940f52852
X-WR-CALDESC:
X-WR-RELCALID:ec18a4d42a7328bf1c5c3d033f6dea81
X-WR-TIMEZONE:America/Chicago
BEGIN:VTIMEZONE
TZID:America/Chicago
BEGIN:STANDARD
TZNAME:CST
DTSTART:20241103T020000
TZOFFSETFROM:-0500
TZOFFSETTO:-0600
RDATE:20251102T020000
END:STANDARD
BEGIN:DAYLIGHT
TZNAME:CDT
DTSTART:20240310T020000
TZOFFSETFROM:-0600
TZOFFSETTO:-0500
RDATE:20250309T020000
RDATE:20260308T020000
END:DAYLIGHT
END:VTIMEZONE
BEGIN:VEVENT
UID:2b4d4fc0-380b-4c05-ab4b-2bc68cdd07d3
DTSTAMP:20260422T115212Z
DESCRIPTION:
DTSTART;TZID=America/Chicago:20241215T130000
DTEND;TZID=America/Chicago:20241215T150000
LOCATION:Eileen Ryan Christ Child Center
SUMMARY:Les Anges Holiday Assembly (family event)
END:VEVENT
END:VCALENDAR
