BEGIN:VCALENDAR
VERSION:2.0
PRODID:-//www.christchildomaha.com//NONSGML kigkonsult.se iCalcreator 2.30.
 10//
CALSCALE:GREGORIAN
METHOD:PUBLISH
UID:ec9870ff-06da-40d4-b03b-fa5617e6cb3b
X-WR-CALDESC:
X-WR-RELCALID:26200ca538f751d7db7910c0e842b265
X-WR-TIMEZONE:America/Chicago
BEGIN:VTIMEZONE
TZID:America/Chicago
BEGIN:STANDARD
TZNAME:CST
DTSTART:20241103T020000
TZOFFSETFROM:-0500
TZOFFSETTO:-0600
RDATE:20251102T020000
END:STANDARD
BEGIN:DAYLIGHT
TZNAME:CDT
DTSTART:20240310T020000
TZOFFSETFROM:-0600
TZOFFSETTO:-0500
RDATE:20250309T020000
RDATE:20260308T020000
END:DAYLIGHT
END:VTIMEZONE
BEGIN:VEVENT
UID:c9df1e0f-34e7-4a8e-bf1f-12e484c48da1
DTSTAMP:20260424T101938Z
DESCRIPTION:
DTSTART;TZID=America/Chicago:20250109T170000
DTEND;TZID=America/Chicago:20250109T203000
LOCATION:Eileen Ryan Christ Child Center
SUMMARY:Board Planning Session and Kick-off Meeting
END:VEVENT
END:VCALENDAR
