BEGIN:VCALENDAR
VERSION:2.0
PRODID:-//www.christchildomaha.com//NONSGML kigkonsult.se iCalcreator 2.30.
 10//
CALSCALE:GREGORIAN
METHOD:PUBLISH
UID:af45f43d-458f-4a2e-9f58-87c149285131
X-WR-CALDESC:
X-WR-RELCALID:ec3a1aa275326bd55279dd4666302a1b
X-WR-TIMEZONE:America/Chicago
BEGIN:VTIMEZONE
TZID:America/Chicago
BEGIN:STANDARD
TZNAME:CST
DTSTART:20241103T020000
TZOFFSETFROM:-0500
TZOFFSETTO:-0600
RDATE:20251102T020000
END:STANDARD
BEGIN:DAYLIGHT
TZNAME:CDT
DTSTART:20240310T020000
TZOFFSETFROM:-0600
TZOFFSETTO:-0500
RDATE:20250309T020000
RDATE:20260308T020000
END:DAYLIGHT
END:VTIMEZONE
BEGIN:VEVENT
UID:2363468c-fc13-4eb8-b2c6-1dc4dabfb028
DTSTAMP:20260422T085731Z
DESCRIPTION:
DTSTART;TZID=America/Chicago:20250211T100000
DTEND;TZID=America/Chicago:20250211T120000
LOCATION:Eileen Ryan Christ Child Center
SUMMARY:L'Esprit - Unpacking at the Center
END:VEVENT
END:VCALENDAR
