BEGIN:VCALENDAR
VERSION:2.0
PRODID:-//www.christchildomaha.com//NONSGML kigkonsult.se iCalcreator 2.30.
 10//
CALSCALE:GREGORIAN
METHOD:PUBLISH
UID:abd5d37a-ebcc-4f8e-b624-584de11842d8
X-WR-CALDESC:
X-WR-RELCALID:1e33deb2dc482fdc973d2677766dd0ea
X-WR-TIMEZONE:America/Chicago
BEGIN:VTIMEZONE
TZID:America/Chicago
BEGIN:STANDARD
TZNAME:CST
DTSTART:20241103T020000
TZOFFSETFROM:-0500
TZOFFSETTO:-0600
RDATE:20251102T020000
END:STANDARD
BEGIN:DAYLIGHT
TZNAME:CDT
DTSTART:20240310T020000
TZOFFSETFROM:-0600
TZOFFSETTO:-0500
RDATE:20250309T020000
RDATE:20260308T020000
END:DAYLIGHT
END:VTIMEZONE
BEGIN:VEVENT
UID:2de59161-e702-471c-8f07-461419e61399
DTSTAMP:20260422T082722Z
DESCRIPTION:
DTSTART;TZID=America/Chicago:20250213T050000
DTEND;TZID=America/Chicago:20250214T050001
LOCATION:3131 S 156th Street\, Omaha\, NE 68130 US
SUMMARY:Layette Assembly - Skutt Catholic High School
END:VEVENT
END:VCALENDAR
