BEGIN:VCALENDAR
VERSION:2.0
PRODID:-//www.christchildomaha.com//NONSGML kigkonsult.se iCalcreator 2.30.
 10//
CALSCALE:GREGORIAN
METHOD:PUBLISH
UID:6cf737f0-00b6-4904-b9b4-ca8bb10d1feb
X-WR-CALDESC:
X-WR-RELCALID:e97fe5f59055db000fb5f7538cdbbb14
X-WR-TIMEZONE:America/Chicago
BEGIN:VTIMEZONE
TZID:America/Chicago
BEGIN:STANDARD
TZNAME:CST
DTSTART:20241103T020000
TZOFFSETFROM:-0500
TZOFFSETTO:-0600
RDATE:20251102T020000
END:STANDARD
BEGIN:DAYLIGHT
TZNAME:CDT
DTSTART:20240310T020000
TZOFFSETFROM:-0600
TZOFFSETTO:-0500
RDATE:20250309T020000
RDATE:20260308T020000
END:DAYLIGHT
END:VTIMEZONE
BEGIN:VEVENT
UID:22233d47-5bfa-42dc-a396-b914fed7a509
DTSTAMP:20260422T094241Z
DESCRIPTION:
DTSTART;TZID=America/Chicago:20250220T113000
DTEND;TZID=America/Chicago:20250220T130000
LOCATION:Eileen Ryan Christ Child Center
SUMMARY:Board Meeting
END:VEVENT
END:VCALENDAR
