BEGIN:VCALENDAR
VERSION:2.0
PRODID:-//www.christchildomaha.com//NONSGML kigkonsult.se iCalcreator 2.30.
 10//
CALSCALE:GREGORIAN
METHOD:PUBLISH
UID:68be86b1-9390-4bce-9487-80f052291c19
X-WR-CALDESC:
X-WR-RELCALID:b3f3306d782404dd1ab9f79db6575819
X-WR-TIMEZONE:America/Chicago
BEGIN:VTIMEZONE
TZID:America/Chicago
BEGIN:STANDARD
TZNAME:CST
DTSTART:20241103T020000
TZOFFSETFROM:-0500
TZOFFSETTO:-0600
RDATE:20251102T020000
END:STANDARD
BEGIN:DAYLIGHT
TZNAME:CDT
DTSTART:20240310T020000
TZOFFSETFROM:-0600
TZOFFSETTO:-0500
RDATE:20250309T020000
RDATE:20260308T020000
END:DAYLIGHT
END:VTIMEZONE
BEGIN:VEVENT
UID:3e2aa854-92f8-428d-ab3b-46282aa6ba86
DTSTAMP:20260422T060338Z
DESCRIPTION:
DTSTART;TZID=America/Chicago:20250304T190000
DTEND;TZID=America/Chicago:20250304T210000
LOCATION:Stokes Grill & Bar - West
SUMMARY:Parents' Night Out hosted by Les Anges & Ses Amies Auxiliaries
END:VEVENT
END:VCALENDAR
