BEGIN:VCALENDAR
VERSION:2.0
PRODID:-//www.christchildomaha.com//NONSGML kigkonsult.se iCalcreator 2.30.
 10//
CALSCALE:GREGORIAN
METHOD:PUBLISH
UID:0a03314a-321d-46f6-b050-088df71e8838
X-WR-CALDESC:
X-WR-RELCALID:b17109d3c15cd80dd5c67b0a9f9b5e1a
X-WR-TIMEZONE:America/Chicago
BEGIN:VTIMEZONE
TZID:America/Chicago
BEGIN:STANDARD
TZNAME:CST
DTSTART:20241103T020000
TZOFFSETFROM:-0500
TZOFFSETTO:-0600
RDATE:20251102T020000
END:STANDARD
BEGIN:DAYLIGHT
TZNAME:CDT
DTSTART:20250309T020000
TZOFFSETFROM:-0600
TZOFFSETTO:-0500
RDATE:20260308T020000
END:DAYLIGHT
END:VTIMEZONE
BEGIN:VEVENT
UID:6ff87eb9-dbf7-4818-84be-8029f1f55701
DTSTAMP:20260422T052344Z
DESCRIPTION:
DTSTART;TZID=America/Chicago:20250326T100000
DTEND;TZID=America/Chicago:20250326T130000
LOCATION:Eileen Ryan Christ Child Center
SUMMARY:Unpacking and Bundling at the Center
END:VEVENT
END:VCALENDAR
