BEGIN:VCALENDAR
VERSION:2.0
PRODID:-//www.christchildomaha.com//NONSGML kigkonsult.se iCalcreator 2.30.
 10//
CALSCALE:GREGORIAN
METHOD:PUBLISH
UID:ccee2fea-84bc-4de0-89af-5fda94cd5330
X-WR-CALDESC:
X-WR-RELCALID:f8141e126cec286a00665692a770dfaa
X-WR-TIMEZONE:America/Chicago
BEGIN:VTIMEZONE
TZID:America/Chicago
BEGIN:STANDARD
TZNAME:CST
DTSTART:20241103T020000
TZOFFSETFROM:-0500
TZOFFSETTO:-0600
RDATE:20251102T020000
END:STANDARD
BEGIN:DAYLIGHT
TZNAME:CDT
DTSTART:20250309T020000
TZOFFSETFROM:-0600
TZOFFSETTO:-0500
RDATE:20260308T020000
END:DAYLIGHT
END:VTIMEZONE
BEGIN:VEVENT
UID:ca53723a-adb7-49aa-90a7-29ad119b6da5
DTSTAMP:20260422T054931Z
DESCRIPTION:
DTSTART;TZID=America/Chicago:20250327T180000
DTEND;TZID=America/Chicago:20250327T200000
LOCATION:Eileen Ryan Christ Child Center
SUMMARY:Les Anges Auxiliary - Layette Assembly
END:VEVENT
END:VCALENDAR
