BEGIN:VCALENDAR
VERSION:2.0
PRODID:-//www.christchildomaha.com//NONSGML kigkonsult.se iCalcreator 2.30.
 10//
CALSCALE:GREGORIAN
METHOD:PUBLISH
UID:dd852cf3-46ba-435e-b44c-873574281b2c
X-WR-CALDESC:
X-WR-RELCALID:395080a1807ee11c0f3140a0d2345434
X-WR-TIMEZONE:America/Chicago
BEGIN:VTIMEZONE
TZID:America/Chicago
BEGIN:STANDARD
TZNAME:CST
DTSTART:20241103T020000
TZOFFSETFROM:-0500
TZOFFSETTO:-0600
RDATE:20251102T020000
END:STANDARD
BEGIN:DAYLIGHT
TZNAME:CDT
DTSTART:20250309T020000
TZOFFSETFROM:-0600
TZOFFSETTO:-0500
RDATE:20260308T020000
END:DAYLIGHT
END:VTIMEZONE
BEGIN:VEVENT
UID:c135b8f6-8c70-4813-b172-a069aaf9009a
DTSTAMP:20260422T034800Z
DESCRIPTION:
DTSTART;TZID=America/Chicago:20250403T113000
DTEND;TZID=America/Chicago:20250403T130000
LOCATION:Eileen Ryan Christ Child Center
SUMMARY:Board Meeting
END:VEVENT
END:VCALENDAR
