BEGIN:VCALENDAR
VERSION:2.0
PRODID:-//www.christchildomaha.com//NONSGML kigkonsult.se iCalcreator 2.30.
 10//
CALSCALE:GREGORIAN
METHOD:PUBLISH
UID:be66f5f3-9774-4426-8003-6d95e24e9337
X-WR-CALDESC:
X-WR-RELCALID:fbcc0b3cf979ed3a8925dcef2f0eeaf9
X-WR-TIMEZONE:America/Chicago
BEGIN:VTIMEZONE
TZID:America/Chicago
BEGIN:STANDARD
TZNAME:CST
DTSTART:20241103T020000
TZOFFSETFROM:-0500
TZOFFSETTO:-0600
RDATE:20251102T020000
RDATE:20261101T020000
END:STANDARD
BEGIN:DAYLIGHT
TZNAME:CDT
DTSTART:20250309T020000
TZOFFSETFROM:-0600
TZOFFSETTO:-0500
RDATE:20260308T020000
END:DAYLIGHT
END:VTIMEZONE
BEGIN:VEVENT
UID:150e6df1-0f80-4568-af37-be6fd87005e4
DTSTAMP:20260422T015728Z
DESCRIPTION:
DTSTART;TZID=America/Chicago:20250502T140000
DTEND;TZID=America/Chicago:20250502T160000
LOCATION:Eileen Ryan Christ Child Center
SUMMARY:Community Partnership - Project Harmony Layette Assembly
END:VEVENT
END:VCALENDAR
