BEGIN:VCALENDAR
VERSION:2.0
PRODID:-//www.christchildomaha.com//NONSGML kigkonsult.se iCalcreator 2.30.
 10//
CALSCALE:GREGORIAN
METHOD:PUBLISH
UID:3916ab4a-2f96-4db7-afb5-8ad17e8d2e45
X-WR-CALDESC:
X-WR-RELCALID:113cd96b1ca710932b44bd463f3cd2e8
X-WR-TIMEZONE:America/Chicago
BEGIN:VTIMEZONE
TZID:America/Chicago
BEGIN:STANDARD
TZNAME:CST
DTSTART:20241103T020000
TZOFFSETFROM:-0500
TZOFFSETTO:-0600
RDATE:20251102T020000
RDATE:20261101T020000
END:STANDARD
BEGIN:DAYLIGHT
TZNAME:CDT
DTSTART:20250309T020000
TZOFFSETFROM:-0600
TZOFFSETTO:-0500
RDATE:20260308T020000
END:DAYLIGHT
END:VTIMEZONE
BEGIN:VEVENT
UID:684b1c2e-283e-4700-bf02-379363735ee3
DTSTAMP:20260422T023722Z
DESCRIPTION:
DTSTART;TZID=America/Chicago:20250507T050000
DTEND;TZID=America/Chicago:20250507T050001
LOCATION:https://nebraska.igivecatholictogether.org/organizations/christ-ch
 ild-society-of-omaha
SUMMARY:Nebraska Catholic Day of Giving
END:VEVENT
END:VCALENDAR
