BEGIN:VCALENDAR
VERSION:2.0
PRODID:-//www.christchildomaha.com//NONSGML kigkonsult.se iCalcreator 2.30.
 10//
CALSCALE:GREGORIAN
METHOD:PUBLISH
UID:db1577e6-9d19-424e-84e9-47568beca0cc
X-WR-CALDESC:
X-WR-RELCALID:9c1b240af9bb92f4c3e21fb4504d6021
X-WR-TIMEZONE:America/Chicago
BEGIN:VTIMEZONE
TZID:America/Chicago
BEGIN:STANDARD
TZNAME:CST
DTSTART:20241103T020000
TZOFFSETFROM:-0500
TZOFFSETTO:-0600
RDATE:20251102T020000
RDATE:20261101T020000
END:STANDARD
BEGIN:DAYLIGHT
TZNAME:CDT
DTSTART:20250309T020000
TZOFFSETFROM:-0600
TZOFFSETTO:-0500
RDATE:20260308T020000
END:DAYLIGHT
END:VTIMEZONE
BEGIN:VEVENT
UID:322bf571-dd54-49d4-971d-647a2304e85a
DTSTAMP:20260422T024607Z
DESCRIPTION:
DTSTART;TZID=America/Chicago:20250515T113000
DTEND;TZID=America/Chicago:20250515T130000
LOCATION:Eileen Ryan Christ Child Center
SUMMARY:Board Meeting
END:VEVENT
END:VCALENDAR
