BEGIN:VCALENDAR
VERSION:2.0
PRODID:-//www.christchildomaha.com//NONSGML kigkonsult.se iCalcreator 2.30.
 10//
CALSCALE:GREGORIAN
METHOD:PUBLISH
UID:21b7ad0b-b654-474d-a57b-bf8f2a7b581d
X-WR-CALDESC:
X-WR-RELCALID:a253e3aab3a062489541a6c6b90d84e7
X-WR-TIMEZONE:America/Chicago
BEGIN:VTIMEZONE
TZID:America/Chicago
BEGIN:STANDARD
TZNAME:CST
DTSTART:20241103T020000
TZOFFSETFROM:-0500
TZOFFSETTO:-0600
RDATE:20251102T020000
RDATE:20261101T020000
END:STANDARD
BEGIN:DAYLIGHT
TZNAME:CDT
DTSTART:20250309T020000
TZOFFSETFROM:-0600
TZOFFSETTO:-0500
RDATE:20260308T020000
END:DAYLIGHT
END:VTIMEZONE
BEGIN:VEVENT
UID:bef9130b-3cc1-434b-8bfe-ef58af2d77a0
DTSTAMP:20260421T233715Z
DESCRIPTION:
DTSTART;TZID=America/Chicago:20250617T130000
DTEND;TZID=America/Chicago:20250617T150000
LOCATION:Eileen Ryan Christ Child Center
SUMMARY:Stampede Baseball Service Project
END:VEVENT
END:VCALENDAR
