BEGIN:VCALENDAR
VERSION:2.0
PRODID:-//www.christchildomaha.com//NONSGML kigkonsult.se iCalcreator 2.30.
 10//
CALSCALE:GREGORIAN
METHOD:PUBLISH
UID:e9e86462-820b-4560-ba1a-fce8e178c110
X-WR-CALDESC:
X-WR-RELCALID:73c75f71f08d111fd3fb60de83ceb609
X-WR-TIMEZONE:America/Chicago
BEGIN:VTIMEZONE
TZID:America/Chicago
BEGIN:STANDARD
TZNAME:CST
DTSTART:20241103T020000
TZOFFSETFROM:-0500
TZOFFSETTO:-0600
RDATE:20251102T020000
RDATE:20261101T020000
END:STANDARD
BEGIN:DAYLIGHT
TZNAME:CDT
DTSTART:20250309T020000
TZOFFSETFROM:-0600
TZOFFSETTO:-0500
RDATE:20260308T020000
END:DAYLIGHT
END:VTIMEZONE
BEGIN:VEVENT
UID:b448ed4a-38c8-4ddd-b46a-ab11b9c1d3be
DTSTAMP:20260421T193038Z
DESCRIPTION:
DTSTART;TZID=America/Chicago:20250911T113000
DTEND;TZID=America/Chicago:20250911T130000
LOCATION:Eileen Ryan Christ Child Center
SUMMARY:Board Meeting
END:VEVENT
END:VCALENDAR
