BEGIN:VCALENDAR
VERSION:2.0
PRODID:-//www.christchildomaha.com//NONSGML kigkonsult.se iCalcreator 2.30.
 10//
CALSCALE:GREGORIAN
METHOD:PUBLISH
UID:ab521483-a69b-4888-ade1-f24757d00d5e
X-WR-CALDESC:
X-WR-RELCALID:a9d5b8200cab6266ca716189cc79c384
X-WR-TIMEZONE:America/Chicago
BEGIN:VTIMEZONE
TZID:America/Chicago
BEGIN:STANDARD
TZNAME:CST
DTSTART:20241103T020000
TZOFFSETFROM:-0500
TZOFFSETTO:-0600
RDATE:20251102T020000
RDATE:20261101T020000
END:STANDARD
BEGIN:DAYLIGHT
TZNAME:CDT
DTSTART:20250309T020000
TZOFFSETFROM:-0600
TZOFFSETTO:-0500
RDATE:20260308T020000
RDATE:20270314T020000
END:DAYLIGHT
END:VTIMEZONE
BEGIN:VEVENT
UID:bef9bc2d-de39-44b1-9272-b88d18fed16a
DTSTAMP:20260421T181749Z
DESCRIPTION:
DTSTART;TZID=America/Chicago:20250924T080000
DTEND;TZID=America/Chicago:20250924T140000
LOCATION:Duchesne Academy
SUMMARY:Mary Virginia Merrick Day of Service at Duchesne Academy
END:VEVENT
END:VCALENDAR
