BEGIN:VCALENDAR
VERSION:2.0
PRODID:-//www.christchildomaha.com//NONSGML kigkonsult.se iCalcreator 2.30.
 10//
CALSCALE:GREGORIAN
METHOD:PUBLISH
UID:b5883f17-f2da-4de6-8891-b66d221f58bc
X-WR-CALDESC:
X-WR-RELCALID:e883919cf46e924bc6b1bd9cde56059a
X-WR-TIMEZONE:America/Chicago
BEGIN:VTIMEZONE
TZID:America/Chicago
BEGIN:STANDARD
TZNAME:CST
DTSTART:20251102T020000
TZOFFSETFROM:-0500
TZOFFSETTO:-0600
RDATE:20261101T020000
END:STANDARD
BEGIN:DAYLIGHT
TZNAME:CDT
DTSTART:20250309T020000
TZOFFSETFROM:-0600
TZOFFSETTO:-0500
RDATE:20260308T020000
RDATE:20270314T020000
END:DAYLIGHT
END:VTIMEZONE
BEGIN:VEVENT
UID:7d15abc8-b9d1-49b6-86b7-f180994dfc20
DTSTAMP:20260421T122252Z
DESCRIPTION:
DTSTART;TZID=America/Chicago:20251210T173000
DTEND;TZID=America/Chicago:20251210T203000
LOCATION:St. Patrick's Church - Elkhorn
SUMMARY:Christ Child Society of Omaha Memorial Mass & Annual Meeting
END:VEVENT
END:VCALENDAR
