BEGIN:VCALENDAR
VERSION:2.0
PRODID:-//www.christchildomaha.com//NONSGML kigkonsult.se iCalcreator 2.30.
 10//
CALSCALE:GREGORIAN
METHOD:PUBLISH
UID:b7d873a9-c59f-4a19-96cb-070287f6813a
X-WR-CALDESC:
X-WR-RELCALID:3757636992f4bc9887e97eb0464292c1
X-WR-TIMEZONE:America/Chicago
BEGIN:VTIMEZONE
TZID:America/Chicago
BEGIN:STANDARD
TZNAME:CST
DTSTART:20251102T020000
TZOFFSETFROM:-0500
TZOFFSETTO:-0600
RDATE:20261101T020000
RDATE:20271107T020000
END:STANDARD
BEGIN:DAYLIGHT
TZNAME:CDT
DTSTART:20260308T020000
TZOFFSETFROM:-0600
TZOFFSETTO:-0500
RDATE:20270314T020000
RDATE:20280312T020000
END:DAYLIGHT
END:VTIMEZONE
BEGIN:VEVENT
UID:99752627-cfd2-4d21-a75b-52219c89cec3
DTSTAMP:20260419T163236Z
DESCRIPTION:
DTSTART;TZID=America/Chicago:20261001T180000
DTEND;TZID=America/Chicago:20261001T210000
LOCATION:Happy Hollow Club
SUMMARY:Soiree 2026
END:VEVENT
END:VCALENDAR
